BEGIN:VCALENDAR
VERSION:2.0
PRODID:-//jEvents 2.0 for Joomla//EN
CALSCALE:GREGORIAN
METHOD:PUBLISH
BEGIN:VTIMEZONE
TZID:Europe/Berlin
END:VTIMEZONE
BEGIN:VEVENT
UID:e5dfe7919fc84d9eb1cb484f5d3a6952
CATEGORIES:Veranstaltungen
CREATED:20220612T185018
SUMMARY:Schnadegang
DESCRIPTION:
DTSTAMP:20260419T160513
DTSTART;TZID=Europe/Berlin;VALUE=DATE:20220924
DTEND;TZID=Europe/Berlin;VALUE=DATE:20220925
SEQUENCE:0
TRANSP:OPAQUE
END:VEVENT
END:VCALENDAR