BEGIN:VCALENDAR
VERSION:2.0
PRODID:-//jEvents 2.0 for Joomla//EN
CALSCALE:GREGORIAN
METHOD:PUBLISH
BEGIN:VTIMEZONE
TZID:Europe/Berlin
END:VTIMEZONE
BEGIN:VEVENT
UID:efe27bceadb7380371ce9edc3020a956
CATEGORIES:Schützenfestbesuche
CREATED:20220612T184853
SUMMARY:Stadtschützenfest Bruchhausen
DESCRIPTION:
DTSTAMP:20260419T160512
DTSTART;TZID=Europe/Berlin;VALUE=DATE:20220917
DTEND;TZID=Europe/Berlin;VALUE=DATE:20220918
SEQUENCE:0
TRANSP:OPAQUE
END:VEVENT
END:VCALENDAR