BEGIN:VCALENDAR
VERSION:2.0
PRODID:-//jEvents 2.0 for Joomla//EN
CALSCALE:GREGORIAN
METHOD:PUBLISH
BEGIN:VTIMEZONE
TZID:Europe/Berlin
END:VTIMEZONE
BEGIN:VEVENT
UID:56c62f1b9e855d14ed1bd8884ff5b8be
CATEGORIES:Schützenfestbesuche
CREATED:20220612T184819
SUMMARY:Stadtschützenfest Niedereimer
DESCRIPTION:
DTSTAMP:20260419T160513
DTSTART;TZID=Europe/Berlin;VALUE=DATE:20220916
DTEND;TZID=Europe/Berlin;VALUE=DATE:20220917
SEQUENCE:0
TRANSP:OPAQUE
END:VEVENT
END:VCALENDAR